{
 "currentVersion": 10.8,
 "serviceDescription": "See https://docs.digital.mass.gov/dataset/massgis-data-usgs-color-ortho-imagery-20132014 for more information",
 "mapName": "Layers",
 "description": "",
 "copyrightText": "USGS, MassGIS",
 "supportsDynamicLayers": true,
 "layers": [
  {
   "id": 0,
   "name": "imagery",
   "parentLayerId": -1,
   "defaultVisibility": true,
   "subLayerIds": null,
   "minScale": 1129,
   "maxScale": 0,
   "type": "Raster Layer"
  }
 ],
 "tables": [],
 "spatialReference": {
  "wkid": 102100,
  "latestWkid": 3857
 },
 "singleFusedMapCache": true,
 "tileInfo": {
  "rows": 256,
  "cols": 256,
  "dpi": 96,
  "format": "MIXED",
  "compressionQuality": 75,
  "origin": {
   "x": -20037700,
   "y": 30241100
  },
  "spatialReference": {
   "wkid": 102100,
   "latestWkid": 3857
  },
  "lods": [
   {
    "level": 0,
    "resolution": 0.29858214164761665,
    "scale": 1128.497176
   },
   {
    "level": 1,
    "resolution": 0.14929107082380833,
    "scale": 564.248588
   },
   {
    "level": 2,
    "resolution": 0.07464553541190416,
    "scale": 282.124294
   },
   {
    "level": 3,
    "resolution": 0.03732276770595208,
    "scale": 141.062147
   }
  ]
 },
 "initialExtent": {
  "xmin": -7916440.674591695,
  "ymin": 5205618.7807316175,
  "xmax": -7916242.503395353,
  "ymax": 5205703.24225054,
  "spatialReference": {
   "cs": "pcs",
   "wkid": 102100
  }
 },
 "fullExtent": {
  "xmin": -7919204.460374023,
  "ymin": 5204283.527926923,
  "xmax": -7915761.389791604,
  "ymax": 5207527.630717741,
  "spatialReference": {
   "cs": "pcs",
   "wkid": 102100
  }
 },
 "minScale": 1128.497176,
 "maxScale": 141.062147,
 "units": "esriMeters",
 "supportedImageFormatTypes": "PNG32,PNG24,PNG,JPG,DIB,TIFF,EMF,PS,PDF,GIF,SVG,SVGZ,BMP",
 "documentInfo": {
  "Title": "",
  "Author": "",
  "Comments": "",
  "Subject": "",
  "Category": "",
  "AntialiasingMode": "None",
  "TextAntialiasingMode": "Force",
  "Keywords": "USGS MassGIS"
 },
 "capabilities": "Map,Query,Data",
 "supportedQueryFormats": "JSON, geoJSON",
 "exportTilesAllowed": false,
 "referenceScale": 0,
 "supportsDatumTransformation": true,
 "maxRecordCount": 1000,
 "maxImageHeight": 4096,
 "maxImageWidth": 4096,
 "supportedExtensions": "KmlServer"
}