{
 "currentVersion": 10.8,
 "serviceDescription": "The Arnold Arboretum Aerial Photography Web Service map document contains aerial photography clipped to the boundary of the Arnold Arboretum of Harvard University.",
 "mapName": "Arnold Arboretum Aerial Photography",
 "description": "Aerial photography for the Arnold Arboretum.",
 "copyrightText": "Harvard Planning Office",
 "supportsDynamicLayers": true,
 "layers": [
  {
   "id": 0,
   "name": "2008",
   "parentLayerId": -1,
   "defaultVisibility": true,
   "subLayerIds": null,
   "minScale": 565,
   "maxScale": 0,
   "type": "Raster Layer"
  }
 ],
 "tables": [],
 "spatialReference": {
  "wkid": 102100,
  "latestWkid": 3857
 },
 "singleFusedMapCache": true,
 "tileInfo": {
  "rows": 256,
  "cols": 256,
  "dpi": 96,
  "format": "PNG32",
  "compressionQuality": 0,
  "origin": {
   "x": -20037700,
   "y": 30241100
  },
  "spatialReference": {
   "wkid": 102100,
   "latestWkid": 3857
  },
  "lods": [
   {
    "level": 0,
    "resolution": 0.29858214164761665,
    "scale": 1128.497176
   },
   {
    "level": 1,
    "resolution": 0.14929107082380833,
    "scale": 564.248588
   },
   {
    "level": 2,
    "resolution": 0.07464553541190416,
    "scale": 282.124294
   },
   {
    "level": 3,
    "resolution": 0.03732276770595208,
    "scale": 141.062147
   }
  ]
 },
 "initialExtent": {
  "xmin": -7917413.654576513,
  "ymin": 5206053.8614084795,
  "xmax": -7917263.716224552,
  "ymax": 5206096.316535056,
  "spatialReference": {
   "cs": "pcs",
   "wkid": 102100
  }
 },
 "fullExtent": {
  "xmin": -7918776.290802832,
  "ymin": 5204547.555881097,
  "xmax": -7916452.615865779,
  "ymax": 5207331.651440502,
  "spatialReference": {
   "cs": "pcs",
   "wkid": 102100
  }
 },
 "minScale": 1128.497176,
 "maxScale": 141.062147,
 "units": "esriMeters",
 "supportedImageFormatTypes": "PNG32,PNG24,PNG,JPG,DIB,TIFF,EMF,PS,PDF,GIF,SVG,SVGZ,BMP",
 "documentInfo": {
  "Title": "Arnold Arboretum Aerial Photography Web Service",
  "Author": "Brian Morgan",
  "Comments": "The Arnold Arboretum Aerial Photography Web Service map document contains aerial photography clipped to the boundary of the Arnold Arboretum of Harvard University.",
  "Subject": "Web service for aerial photography for the Arnold Arboretum of Harvard University.",
  "Category": "",
  "AntialiasingMode": "None",
  "TextAntialiasingMode": "Force",
  "Keywords": "Arnold Arboretum,Aerial Photography"
 },
 "capabilities": "Map,Query,Data",
 "supportedQueryFormats": "JSON, geoJSON",
 "exportTilesAllowed": false,
 "referenceScale": 0,
 "datumTransformations": [
  {
   "geoTransforms": [
    {
     "wkid": 108001,
     "latestWkid": 1241,
     "transformForward": true,
     "name": "NAD_1927_To_NAD_1983_NADCON"
    }
   ]
  },
  {
   "geoTransforms": [
    {
     "wkid": 108001,
     "latestWkid": 1241,
     "transformForward": false,
     "name": "NAD_1927_To_NAD_1983_NADCON"
    }
   ]
  },
  {
   "geoTransforms": [
    {
     "wkid": 8494,
     "latestWkid": 1515,
     "transformForward": true,
     "name": "NAD_1983_To_WGS_1984_5"
    }
   ]
  },
  {
   "geoTransforms": [
    {
     "wkid": 8494,
     "latestWkid": 1515,
     "transformForward": false,
     "name": "NAD_1983_To_WGS_1984_5"
    }
   ]
  }
 ],
 "supportsDatumTransformation": true,
 "maxRecordCount": 1000,
 "maxImageHeight": 4096,
 "maxImageWidth": 4096,
 "supportedExtensions": "KmlServer"
}